BEGIN:VCALENDAR
VERSION:2.0
PRODID:-//ChamberMaster//Event Calendar 2.0//EN
METHOD:PUBLISH
X-PUBLISHED-TTL:P3D
REFRESH-INTERVAL:P3D
CALSCALE:GREGORIAN
BEGIN:VEVENT
DTSTART:20191207T150000Z
DTEND:20191207T220000Z
X-MICROSOFT-CDO-ALLDAYEVENT:FALSE
SUMMARY:Ring in the Holidays with Alpacas
DESCRIPTION:Ring in the Holidays with Alpacas\n\nPreston\, MD - As the holidays approach\, there are many exciting events planned for families to participate in such as caroling\, cookie exchanges\, craft shows and even meeting the big man in red himself. \n\nIf you are looking for something new to experience that family members of all ages will be talking about for months to come\, mark your calendars for Saturday\, December 7th to ring in the holidays with alpacas!\n\nOutstanding Dreams Alpaca Farm will host the Annual Holiday Open House in Preston\, Maryland from 10:00 am until 5:00 pm. Their retail store offers a wide range of fiber products\, apparel and accessories crafted from the luxurious fleece of alpacas\, providing an excellent option to purchase gifts of quality. Visitors can enjoy strolling the farm and meeting a herd of alpacas as well as Mrs. Claus who will share some of her delicious holiday treats. \n\n\n\nQuestions about alpacas? Owners Phil and Vickie will be on hand to answer questions about these lovable creatures and visitors can even see the animals up close. Don't forget to bring a camera for some great photo opportunities! \n\nWhat can you expect to find in our Farm Store? From blankets to sweaters and accessories to socks\, we have a wide selection of products crafted from luxurious alpaca fiber to ensure you will find a gift for anyone on your list. Our premium alpaca yarn\, made from the animals right here on the farm\, is available in many colors and weights and is 100% Maryland Made. \n\n\n\nFor more information and to plan your visit to Outstanding Dreams Farm\, call (410) 673-2002 or visit Outstanding Dreams Alpaca Farm's Facebook Page for the latest news and updates. \n\nOutstanding Dreams Alpaca Farm is located at 24480 Pinetown Road\, Preston\, Maryland.
X-ALT-DESC;FMTTYPE=text/html:<strong>Ring in the Holidays with Alpacas</strong><br />\n<span style="font-family:times new roman\;"><span style="font-size:14px\;"><strong>Preston\, MD<span style="font-weight:normal\;"> - As the holidays approach\, there are many exciting events planned for families to participate in such as caroling\, cookie exchanges\, craft shows and even meeting the big man in red himself. </span></strong><br />\n<strong><span style="font-weight:normal\;">If you are looking for something new to experience that family members of all ages will be talking about for months to come\, mark your calendars for Saturday\, December 7<sup>th</sup> to ring in the holidays with alpacas!</span></strong><br />\n<strong><span style="font-weight:normal\;">Outstanding Dreams Alpaca Farm will host the Annual Holiday Open House in Preston\, Maryland from 10:00 am until 5:00 pm. Their retail store offers a wide range of fiber products\, apparel and accessories crafted from the luxurious fleece of alpacas\, providing an excellent option to purchase gifts of quality. Visitors can enjoy strolling the farm and meeting a herd of alpacas as well as Mrs. Claus who will share some of her delicious holiday treats.&nbsp\;</span></strong><br />\n<br />\n<strong><span style="font-weight:normal\;">Questions about alpacas? Owners Phil and Vickie will be on hand to answer questions about these lovable creatures and visitors can even see the animals up close. Don&#39\;t forget to bring a camera for some great photo opportunities! </span></strong><br />\n<strong><span style="font-weight:normal\;">What can you expect to find in our Farm Store? From blankets to sweaters and accessories to socks\, we have a wide selection of products crafted from luxurious alpaca fiber to ensure you will find a gift for anyone on your list. Our premium alpaca yarn\, made from the animals right here on the farm\, is available in many colors and weights and is 100% Maryland Made. </span></strong><br />\n<br />\n<strong><span style="font-weight:normal\;">For more information and to plan your visit to Outstanding Dreams Farm\, call (410) 673-2002 or visit Outstanding Dreams Alpaca Farm&rsquo\;s </span></strong><a href="https://www.facebook.com/OutstandingDreamsFarm" target="_blank">Facebook Page</a><strong><span style="font-weight:normal\;"> for the latest news and updates. </span></strong><br />\n<strong><span style="font-weight:normal\;">Outstanding Dreams Alpaca Farm is located at </span></strong>24480 Pinetown Road\, Preston\, Maryland.</span></span>
LOCATION:
UID:e.1366.3583
SEQUENCE:3
DTSTAMP:20260423T233315Z
URL:https://www.carolinechamber.org/events/details/ring-in-the-holidays-with-alpacas-3583
END:VEVENT

END:VCALENDAR
