BEGIN:VCALENDAR
VERSION:2.0
PRODID:-//ChamberMaster//Event Calendar 2.0//EN
METHOD:PUBLISH
X-PUBLISHED-TTL:P3D
REFRESH-INTERVAL:P3D
CALSCALE:GREGORIAN
BEGIN:VEVENT
DTSTART:20191213T220000Z
DTEND:20191214T010000Z
X-MICROSOFT-CDO-ALLDAYEVENT:FALSE
SUMMARY:Santa's Magic Workshop
DESCRIPTION:Santa's Magic Workshop gives kids a chance to make their own Christmas\n\nornaments.  Other activities include a train display\, festive lights\,\n\nseasonal music\, hayrides\, refreshments and Santa will be on hand to hear\n\nyour special wishes.  Festivities will take place at Martinak State Park at\n\nthe Nature Center and the Log Cabin on Saturday\, December 7 from 4-7 p.m.\,\n\nFriday\, December 13 from 5-8 p.m.\, and Saturday\, December 14 from 4 - 7 p.m.\n\nAdmission is 2 canned goods per person donated to local food pantries.  For\n\nmore information\, call Recreation & Parks at 410-479-8120.
X-ALT-DESC;FMTTYPE=text/html:<span style="font-size:16px\;"><span style="font-family:times new roman\;"><span style="background-color: rgb(255\, 255\, 255)\;">Santa&#39\;s Magic Workshop gives kids a chance to make their own Christmas</span><br style="font-family: monospace\; font-size: 12.09px\; background-color: rgb(255\, 255\, 255)\;" />\n<span style="background-color: rgb(255\, 255\, 255)\;">ornaments. &nbsp\;Other activities include a train display\, festive lights\,</span><br style="font-family: monospace\; font-size: 12.09px\; background-color: rgb(255\, 255\, 255)\;" />\n<span style="background-color: rgb(255\, 255\, 255)\;">seasonal music\, hayrides\, refreshments and Santa will be on hand to hear</span><br style="font-family: monospace\; font-size: 12.09px\; background-color: rgb(255\, 255\, 255)\;" />\n<span style="background-color: rgb(255\, 255\, 255)\;">your special wishes. &nbsp\;Festivities will take place at Martinak State Park at</span><br style="font-family: monospace\; font-size: 12.09px\; background-color: rgb(255\, 255\, 255)\;" />\n<span style="background-color: rgb(255\, 255\, 255)\;">the Nature Center and the Log Cabin on Saturday\, December 7 from 4-7 p.m.\,</span><br style="font-family: monospace\; font-size: 12.09px\; background-color: rgb(255\, 255\, 255)\;" />\n<span style="background-color: rgb(255\, 255\, 255)\;">Friday\, December 13 from 5-8 p.m.\, and Saturday\, December 14 from 4 - 7 p.m.</span><br style="font-family: monospace\; font-size: 12.09px\; background-color: rgb(255\, 255\, 255)\;" />\n<span style="background-color: rgb(255\, 255\, 255)\;">Admission is 2 canned goods per person donated to local food pantries. &nbsp\;For</span><br style="font-family: monospace\; font-size: 12.09px\; background-color: rgb(255\, 255\, 255)\;" />\n<span style="background-color: rgb(255\, 255\, 255)\;">more information\, call Recreation &amp\; Parks at 410-479-8120.</span></span></span>
LOCATION:Martinak State Park Nature Center and the Log Cabin
UID:e.1366.3565
SEQUENCE:3
DTSTAMP:20260423T233059Z
URL:https://www.carolinechamber.org/events/details/santa-s-magic-workshop-3565
END:VEVENT

END:VCALENDAR
