BEGIN:VCALENDAR
VERSION:2.0
PRODID:-//ChamberMaster//Event Calendar 2.0//EN
METHOD:PUBLISH
X-PUBLISHED-TTL:P3D
REFRESH-INTERVAL:P3D
CALSCALE:GREGORIAN
BEGIN:VEVENT
DTSTART:20190624T130000Z
DTEND:20190624T200000Z
X-MICROSOFT-CDO-ALLDAYEVENT:FALSE
SUMMARY:Second annual Links For Autism golf tournament
DESCRIPTION:The second annual Links For Autism golf tournament will be held Monday\, June 24\, at Renditions in Davidsonville\, Md. The event will feature a shotgun start at 9 a.m. with breakfast and goodie bags upon arrival\, hot dogs and sandwiches at the turn\, and a West Texas BBQ to follow with a guest speaker\, silent auction and prizes. The event benefits Sweet Bay Magnolia Academy in Stevensville\, a non-profit specialized education and therapy center offering individualized academics\, ABA\, speech and occupational therapies\, psychiatric consultations\, a developmental daycare and homeschool opportunities. Sweet Bay strives to meet the needs of every child\, at every level. Tickets are $150 a person and $600 for a foursome. For tickets\, contact Fundraising Chairperson Kate Thomas at 410-924-1315 or mksthomas26@gmail.com. Checks can be mailed to: c/o Kate Thomas\, Sweet Bay Magnolia Academy\, 201 Love Point Road\, Stevensville\, MD 21666.
X-ALT-DESC;FMTTYPE=text/html:The second annual Links For Autism golf tournament will be held Monday\, June 24\, at Renditions in Davidsonville\, Md. The event will feature a shotgun start at 9 a.m. with breakfast and goodie bags upon arrival\, hot dogs and sandwiches at the turn\, and a West Texas BBQ to follow with a guest speaker\, silent auction and prizes. The event benefits Sweet Bay Magnolia Academy in Stevensville\, a non-profit specialized education and therapy center offering individualized academics\, ABA\, speech and occupational therapies\, psychiatric consultations\, a developmental daycare and homeschool opportunities. Sweet Bay strives to meet the needs of every child\, at every level. Tickets are $150 a person and $600 for a foursome. For tickets\, contact Fundraising Chairperson Kate Thomas at 410-924-1315 or mksthomas26@gmail.com. Checks can be mailed to: c/o Kate Thomas\, Sweet Bay Magnolia Academy\, 201 Love Point Road\, Stevensville\, MD 21666.
LOCATION:Renditions in Davidsonville\, Md.
UID:e.1366.2287
SEQUENCE:3
DTSTAMP:20260419T145301Z
URL:https://www.carolinechamber.org/events/details/second-annual-links-for-autism-golf-tournament-2287
END:VEVENT

END:VCALENDAR
