BEGIN:VCALENDAR
VERSION:2.0
PRODID:-//ChamberMaster//Event Calendar 2.0//EN
METHOD:PUBLISH
X-PUBLISHED-TTL:P3D
REFRESH-INTERVAL:P3D
CALSCALE:GREGORIAN
BEGIN:VEVENT
DTSTART:20190921T130000Z
DTEND:20190921T160000Z
X-MICROSOFT-CDO-ALLDAYEVENT:FALSE
SUMMARY:Shoot 4 Shelter Sporting Clay Tournament
DESCRIPTION:Registration and breakfast at 9am\, Tournament at 10am\n\nSupport His Hope Ministries at Shoot 4 Shelter! Participants will receive a t-shirt\, a light breakfast\, lunch by Grills on Wheels\, and 50 targets at 10 stations. The event also includes an auction\, side games and an awards ceremony.
X-ALT-DESC;FMTTYPE=text/html:<strong style="color: rgb(32\, 32\, 32)\; font-family: Arial\, &quot\;Helvetica Neue&quot\;\, Helvetica\, sans-serif\; font-size: 15px\; background-color: rgb(255\, 255\, 255)\;">Registration and breakfast at 9am\, Tournament at 10am</strong><br style="color: rgb(32\, 32\, 32)\; font-family: Arial\, &quot\;Helvetica Neue&quot\;\, Helvetica\, sans-serif\; font-size: 15px\; background-color: rgb(255\, 255\, 255)\;" />\n<span style="color: rgb(32\, 32\, 32)\; font-family: Arial\, &quot\;Helvetica Neue&quot\;\, Helvetica\, sans-serif\; font-size: 15px\; background-color: rgb(255\, 255\, 255)\;">Support His Hope Ministries at Shoot 4 Shelter! Participants will receive a t-shirt\, a light breakfast\, lunch by Grills on Wheels\, and 50 targets at 10 stations. The event also includes an auction\, side games and an awards ceremony.</span>
LOCATION:Schrader's Outdoors\, 16090 Oakland Road\, Henderson
UID:e.1366.2515
SEQUENCE:3
DTSTAMP:20260419T115327Z
URL:https://www.carolinechamber.org/events/details/shoot-4-shelter-sporting-clay-tournament-2515
END:VEVENT

END:VCALENDAR
