BEGIN:VCALENDAR
VERSION:2.0
PRODID:-//ChamberMaster//Event Calendar 2.0//EN
METHOD:PUBLISH
X-PUBLISHED-TTL:P3D
REFRESH-INTERVAL:P3D
CALSCALE:GREGORIAN
BEGIN:VEVENT
DTSTART:20210811T120000Z
DTEND:20210811T133000Z
X-MICROSOFT-CDO-ALLDAYEVENT:FALSE
SUMMARY:Small Business Academy Class 5 IT Solutions and Security for any size Business
DESCRIPTION:Join the Caroline County Chamber of Commerce for it's next Small Business Academy \n\n \n\nAugust 11th at 8:00 AM- 9:30 AM. \n\n \n\nThis class will offer\, "IT Solutions And Security For Any Size Business" our guest speaker will be Justin Smith\, owner of Midshore Technology Services\n\n \n\nMr. Smith has decades of experience in cybersecurity and IT and is from Caroline County with an office in Denton\, MD.\n\n \n\nMidshore Technology Services provides a wide variety of hosted\, managed and ad-hoc IT and Cybersecurity services and solutions. For small businesses\, our "Proactive PC" plans suit most clients and provides the IT Essentials that every business needs. \n\n \n\nFor larger businesses and enterprises\, we offer cloud computing\, consulting and IT Managed Services that rival any currently available in the area. From a 24x7 help desk\, Network Operations Center (NOC) and cybersecurity monitoring\, alerting and response we provide services at a reduced cost when compared to building or hiring internally. \n\n \n\nStarting in 2021\, we also offer World Class\, Voice-over-IP (VoIP) / UCaaS phone service packed with over 70 features including virtual receptionist\, mobile apps\, and virtual faxing. Call us at 443-448-7162 or visit our website to receive a free IT or Cybersecurity Assessment and learn how we can help your organization grow\, collaborate\, and operate efficiently.
X-ALT-DESC;FMTTYPE=text/html:<div style="text-align: center\;"><span style="font-size: 14px\; color: rgb(5\, 5\, 5)\;">Join the Caroline County Chamber of Commerce for it&#39\;s next Small Business Academy </span></div>\n\n<div style="text-align: center\;">&nbsp\;</div>\n\n<div style="text-align: center\;"><span style="font-size: 14px\; color: rgb(5\, 5\, 5)\; font-weight: bold\;">August 11th </span><span style="font-size: 14px\; color: rgb(5\, 5\, 5)\;">at 8:00 AM- 9:30 AM. </span></div>\n\n<div style="text-align: center\;">&nbsp\;</div>\n\n<div><span style="font-size: 14px\; color: rgb(5\, 5\, 5)\;">This class will offer\, </span><span style="font-size: 14px\; color: rgb(214\, 9\, 12)\;">&quot\;IT Solutions And Security For Any Size Business</span><span style="font-size: 14px\; color: rgb(5\, 5\, 5)\;">&rdquo\; our guest speaker will be Justin Smith\, owner of Midshore Technology Services</span></div>\n\n<div>&nbsp\;</div>\n\n<div><span style="font-size: 14px\; color: rgb(5\, 5\, 5)\;">Mr. Smith has decades of experience in cybersecurity and IT and is from Caroline County with an office in Denton\, MD.</span></div>\n\n<div>&nbsp\;</div>\n\n<div><span style="font-size: 16px\; font-family: Calibri\, Helvetica\, Arial\, sans-serif\;">Midshore Technology Services provides a wide variety of hosted\, managed and ad-hoc IT and Cybersecurity services and solutions.&nbsp\;For small businesses\, our &ldquo\;Proactive PC&rdquo\; plans suit most clients and provides the IT Essentials that every business needs.&nbsp\;</span></div>\n\n<div><span style="font-size: 16px\; font-family: Calibri\, Helvetica\, Arial\, sans-serif\;">&nbsp\;</span></div>\n\n<div><span style="font-size: 16px\; font-family: Calibri\, Helvetica\, Arial\, sans-serif\;">For larger businesses and enterprises\, we offer cloud computing\, consulting and IT Managed Services that rival any currently available in the area.&nbsp\;From a 24x7 help desk\, Network Operations Center (NOC) and cybersecurity monitoring\, alerting and response we provide services at a reduced cost when compared to building or hiring internally.&nbsp\;</span></div>\n\n<div><span style="font-size: 16px\; font-family: Calibri\, Helvetica\, Arial\, sans-serif\;">&nbsp\;</span></div>\n\n<div><span style="font-size: 16px\; font-family: Calibri\, Helvetica\, Arial\, sans-serif\;">Starting in 2021\, we also offer World Class\, Voice-over-IP (VoIP) / UCaaS phone service packed with over 70 features including virtual receptionist\, mobile apps\, and virtual faxing.&nbsp\;Call us at 443-448-7162 or visit our&nbsp\;</span><a href="https://urldefense.proofpoint.com/v2/url?u=https-3A__www.midshoretechnology.com_&amp\;d=DwMFaQ&amp\;c=euGZstcaTDllvimEN8b7jXrwqOf-v5A_CdpgnVfiiMM&amp\;r=eekaKUJ34M5hEl7X6VfKPv-DVDsM3XxZq5k0rPMzYGE&amp\;m=-835gl0xYUTGqX0XVoOWVGG4gbE6-RfeHqTrYH-pEu4&amp\;s=qFS22lrn7PC26o7oYT2yO0PxRCLI3bGIjuKh2PEEk5g&amp\;e=" rel="noopener noreferrer" style="text-decoration-line: none\; color: rgb(0\, 0\, 0)\; font-size: 16px\; font-family: Calibri\, Helvetica\, Arial\, sans-serif\;" target="_blank">website</a><span style="font-size: 16px\; font-family: Calibri\, Helvetica\, Arial\, sans-serif\;">&nbsp\;to receive a free IT or Cybersecurity Assessment and learn how we can help your organization grow\, collaborate\, and operate efficiently.</span></div>\n\n<div>&nbsp\;</div>\n\n<div>&nbsp\;</div>\n
LOCATION:Virtual Zoom link will be sent once you register for the class
UID:e.1366.3752
SEQUENCE:3
DTSTAMP:20260420T160203Z
URL:https://www.carolinechamber.org/events/details/small-business-academy-class-5-it-solutions-and-security-for-any-size-business-3752
END:VEVENT

END:VCALENDAR
