BEGIN:VCALENDAR
VERSION:2.0
PRODID:-//ChamberMaster//Event Calendar 2.0//EN
METHOD:PUBLISH
X-PUBLISHED-TTL:P3D
REFRESH-INTERVAL:P3D
CALSCALE:GREGORIAN
BEGIN:VEVENT
DTSTART:20170408T113000Z
DTEND:20170408T203000Z
X-MICROSOFT-CDO-ALLDAYEVENT:FALSE
SUMMARY:Smithsonian Museum of African American History and Culture Bus Trip
DESCRIPTION:Mayor Joe Noon\, the Town Council of Greensboro\, and Gloria Richardson invite you to join them on a bus trip to the Smithsonian National Museum of African American History and Culture in Washington DC.
X-ALT-DESC;FMTTYPE=text/html:Mayor Joe Noon\, the Town Council of Greensboro\, and Gloria Richardson invite you to join them on a bus trip to the Smithsonian National Museum of African American History and Culture in Washington DC.
LOCATION:Bus departs from the Route 50/Route 404 Park & Ride at 7:30 am and expects to return at 4:00 pm.
UID:e.1366.662
SEQUENCE:3
DTSTAMP:20260425T201605Z
URL:https://www.carolinechamber.org/events/details/smithsonian-museum-of-african-american-history-and-culture-bus-trip-662
END:VEVENT

END:VCALENDAR
