BEGIN:VCALENDAR
VERSION:2.0
PRODID:-//ChamberMaster//Event Calendar 2.0//EN
METHOD:PUBLISH
X-PUBLISHED-TTL:P3D
REFRESH-INTERVAL:P3D
CALSCALE:GREGORIAN
BEGIN:VEVENT
DTSTART:20190913T140000Z
DTEND:20190913T180000Z
X-MICROSOFT-CDO-ALLDAYEVENT:FALSE
SUMMARY:Stitch and Sew
DESCRIPTION:Head to the Fiber Arts Center of the Eastern Shore (FACES) and work on your unfinished projects! Drop-In fee is $5 for FACES members and $10 for non-members.
X-ALT-DESC;FMTTYPE=text/html:<span style="color: rgb(32\, 32\, 32)\; font-family: Arial\, &quot\;Helvetica Neue&quot\;\, Helvetica\, sans-serif\; font-size: 15px\; background-color: rgb(255\, 255\, 255)\;">Head to the Fiber Arts Center of the Eastern Shore (FACES) and work on your unfinished projects! Drop-In fee is $5 for FACES members and $10 for non-members.</span>
LOCATION:FACES\, 7 N. 4th Street\, Denton
UID:e.1366.2512
SEQUENCE:3
DTSTAMP:20260419T102559Z
URL:https://www.carolinechamber.org/events/details/stitch-and-sew-2512
END:VEVENT

END:VCALENDAR
