BEGIN:VCALENDAR
VERSION:2.0
PRODID:-//ChamberMaster//Event Calendar 2.0//EN
METHOD:PUBLISH
X-PUBLISHED-TTL:P3D
REFRESH-INTERVAL:P3D
CALSCALE:GREGORIAN
BEGIN:VEVENT
DTSTART;VALUE=DATE:20170619
DTEND;VALUE=DATE:20170722
TRANSP:TRANSPARENT
X-MICROSOFT-CDO-ALLDAYEVENT:TRUE
SUMMARY:Summer Nature Camps at Adkins Aboretum
DESCRIPTION:The Arboretum offers nature-based summer camps in June and July for children ages 2 to 13. Camp registration is now underway!\n\n2017 SUMMER NATURE CAMP SESSIONS\n\nCamp Bumblebee (ages 2-3): June 19-23\n\nCamp Pollywog (ages 4-6): June 26-30\n\nCamp Whippoorwill (a special birding camp for ages 8-12): June 26-30\n\nCamp Paw Paw (ages 7-9): July 10-14\n\nCamp Egret (ages 10-13): July 17-21\n\nUpon registration\, you will receive an email containing a letter welcoming your child to camp\, a list of items to bring\, and health forms that staff must keep on file. Please be sure to bring these forms on the first day of camp. You also may click here to complete the forms online.
X-ALT-DESC;FMTTYPE=text/html:<div style="color: rgb(125\, 125\, 125)\; font-family: Calibri\, sans-serif\; font-size: 17px\;">\n<p><b>The Arboretum offers nature-based summer camps in June and July for children ages 2 to 13. Camp registration is now underway!</b></p>\n\n<p><b>2017 SUMMER NATURE CAMP SESSIONS</b></p>\n\n<p><b><a href="https://adkins.donorshops.com/product/BUMBLEBEE2017/campbumblebeejune1923.php" style="color: rgb(104\, 1\, 3)\;">Camp Bumblebee</a></b>&nbsp\;(ages 2-3): June 19-23</p>\n\n<p><b><a href="https://adkins.donorshops.com/product/POLLYWOG2017/camppollywogjune2630.php" style="color: rgb(104\, 1\, 3)\;">Camp Pollywog</a></b>&nbsp\;(ages 4-6): June 26-30</p>\n\n<p><b><a href="https://adkins.donorshops.com/product/WHIPPOORWILL2017/campwhippoorwilljune2630.php" style="color: rgb(104\, 1\, 3)\;">Camp Whippoorwill</a></b>&nbsp\;(a special birding camp for ages 8-12): June 26-30</p>\n\n<p><b><a href="https://adkins.donorshops.com/product/PAWPAW2017/camppawpawjuly1014.php" style="color: rgb(104\, 1\, 3)\;">Camp Paw Paw</a></b>&nbsp\;(ages 7-9): July 10-14</p>\n\n<p><b><a href="https://adkins.donorshops.com/product/EGRET2017/campegretjuly1721.php" style="color: rgb(104\, 1\, 3)\;">Camp Egret</a></b>&nbsp\;(ages 10-13): July 17-21</p>\n\n<p><b>Upon registration\, you will receive an email containing a letter welcoming your child to camp\, a list of items to bring\, and health forms that staff must keep on file. Please be sure to bring these forms on the first day of camp. You also may&nbsp\;<a href="http://www.adkinsarboretum.org/programs_events/summer-camp-forms.html" style="color: rgb(104\, 1\, 3)\;">click here to complete the forms online</a>.</b></p>\n\n<div>&nbsp\;</div>\n</div>\n
LOCATION:Adkins Arboretum
UID:e.1366.671
SEQUENCE:3
DTSTAMP:20260425T155737Z
URL:https://www.carolinechamber.org/events/details/summer-nature-camps-at-adkins-aboretum-671
END:VEVENT

END:VCALENDAR
