BEGIN:VCALENDAR
VERSION:2.0
PRODID:-//ChamberMaster//Event Calendar 2.0//EN
METHOD:PUBLISH
X-PUBLISHED-TTL:P3D
REFRESH-INTERVAL:P3D
CALSCALE:GREGORIAN
BEGIN:VEVENT
DTSTART:20181219T213000Z
DTEND:20181219T233000Z
X-MICROSOFT-CDO-ALLDAYEVENT:FALSE
SUMMARY:Tenchi Anniversary Celebration Ribbon Cutting
DESCRIPTION:Come out and celebrate Tenchi Spanish Amreican Kitchen's One Year Anniversary.\n\nEnjoy $1 Fried Ice Cream & $1 Fountain Drinks\n\nFace Painting by Creative Junktion starting at 4:30pm.
X-ALT-DESC;FMTTYPE=text/html:Come out and celebrate Tenchi Spanish Amreican Kitchen&#39\;s One Year Anniversary.<br />\nEnjoy $1 Fried Ice Cream &amp\; $1 Fountain Drinks<br />\nFace Painting by Creative Junktion starting at 4:30pm.
LOCATION:Tenchi Spanish American Kitchen 103 S. Main Street Greensboro\, MD 21639
UID:e.1366.2064
SEQUENCE:3
DTSTAMP:20260424T153937Z
URL:https://www.carolinechamber.org/events/details/tenchi-anniversary-celebration-ribbon-cutting-2064
END:VEVENT

END:VCALENDAR
