BEGIN:VCALENDAR
VERSION:2.0
PRODID:-//ChamberMaster//Event Calendar 2.0//EN
METHOD:PUBLISH
X-PUBLISHED-TTL:P3D
REFRESH-INTERVAL:P3D
CALSCALE:GREGORIAN
BEGIN:VEVENT
DTSTART:20191212T130000Z
DTEND:20191213T020000Z
X-MICROSOFT-CDO-ALLDAYEVENT:FALSE
SUMMARY:Together We Make a Difference Fundraiser
DESCRIPTION:Visti TENCHI restaurant anytime on Thursday\, December 12\, 2019 and they will donate 10% of sales to support the Caroline County Family YMCA's Annual Campaign Which allows our YMCA to never turn anyone away due to inability to pay. Enjoy a delicious meal while benefiting a great cause! for more information contact Angel Perez 410-479-3060 or carolineymcamentoring@ymcachesapeake.org
X-ALT-DESC;FMTTYPE=text/html:Visti TENCHI restaurant anytime on Thursday\, December 12\, 2019 and they will donate 10% of sales to support the Caroline County Family YMCA&#39\;s Annual Campaign Which allows our YMCA to never turn anyone away due to inability to pay. Enjoy a delicious meal while benefiting a great cause! for more information contact Angel Perez 410-479-3060 or carolineymcamentoring@ymcachesapeake.org
LOCATION:TENCHI restaurant 103 S. Main St. Greensboro\,MD 21629
UID:e.1366.3593
SEQUENCE:3
DTSTAMP:20260423T233058Z
URL:https://www.carolinechamber.org/events/details/together-we-make-a-difference-fundraiser-3593
END:VEVENT

END:VCALENDAR
