BEGIN:VCALENDAR
VERSION:2.0
PRODID:-//ChamberMaster//Event Calendar 2.0//EN
METHOD:PUBLISH
X-PUBLISHED-TTL:P3D
REFRESH-INTERVAL:P3D
CALSCALE:GREGORIAN
BEGIN:VEVENT
DTSTART:20190413T150000Z
DTEND:20190413T160000Z
X-MICROSOFT-CDO-ALLDAYEVENT:FALSE
SUMMARY:Walk a Mile in Her Shoes
DESCRIPTION:Walk a Mile in Her Shoes  is an event dedicated to helping end rape\, sexual assault\, and gender violence. On April 13\, 2019 at 11:00 AM at Martin Sutton Park in Ridgely\, a group of fun-loving\, brave and hopefully strong-ankled men will be taking this mile-long walk in high heels to show our pledge to help end this cycle of violence against women.\n\n \nParticipation is easy. Pledge yourself\, an employee\, or a member of your organization to walk for $100 per walker. Monies raised will be used to support the Mid-Shore Council on Family Violence (MSCFV)\, the provider of comprehensive services to support victims of domestic violence in Maryland's Mid-Shore counties. For this pledge donation\, you will receive special recognition at the event and on the MSCFV website and social media pages\, a Certificate of Silliness\, a group photo\, and other items to help you remember the event. \n\n \n\nThe next thing you need to do is find your shoes. This walk should be done in high heels (red is the official color)\, but if you absolutely can't do heels\, glittery sneakers\, sequined Keds or flowery sandals make great substitutes. If you wish to have us get the shoes for you\, please include an additional $70 dollars per walker and place the shoe size of your walker in the check memo line. Shoe orders need to be made by April 1\, 2019.\n\n \n\nFinally\, pick out your outfit for the walk and start strutting. Costumes and accessories are welcome and encouraged. \n\n\n\nTo Register click the link below.\n\nhttps://chambermaster.blob.core.windows.net/userfiles/UserFiles/chambers/1366/File/RegistrationForm.pdf
X-ALT-DESC;FMTTYPE=text/html:<span style="color: rgb(48\, 48\, 48)\; font-family: Verdana\, Geneva\, sans-serif\; font-size: 14px\; background-color: rgb(255\, 255\, 255)\;">Walk a Mile in Her Shoes&reg\; is an event dedicated to helping end rape\, sexual assault\, and gender violence. On April 13\, 2019 at 11:00 AM at Martin Sutton Park in Ridgely\, a group of fun-loving\, brave and hopefully strong-ankled men will be taking this mile-long walk in high heels to show our pledge to help end this cycle of violence against women.</span><br />\n&nbsp\;\n<div style="margin: 0px\; padding: 0px\; color: rgb(48\, 48\, 48)\; font-family: Verdana\, Geneva\, sans-serif\; font-size: 14px\; background-color: rgb(255\, 255\, 255)\;">Participation is easy. Pledge yourself\, an employee\, or a member of your organization to walk for $100 per walker. Monies raised will be used to support the Mid-Shore Council on Family Violence (MSCFV)\, the provider of comprehensive services to support victims of domestic violence in Maryland&rsquo\;s Mid-Shore counties. For this pledge donation\, you will receive special recognition at the event and on the MSCFV website and social media pages\, a Certificate of Silliness\, a group photo\, and other items to help you remember the event.&nbsp\;</div>\n\n<div style="margin: 0px\; padding: 0px\; color: rgb(48\, 48\, 48)\; font-family: Verdana\, Geneva\, sans-serif\; font-size: 14px\; background-color: rgb(255\, 255\, 255)\;">&nbsp\;</div>\n\n<div style="margin: 0px\; padding: 0px\; color: rgb(48\, 48\, 48)\; font-family: Verdana\, Geneva\, sans-serif\; font-size: 14px\; background-color: rgb(255\, 255\, 255)\;">The next thing you need to do is find your shoes. This walk should be done in high heels (red is the official color)\, but if you absolutely can&rsquo\;t do heels\, glittery sneakers\, sequined Keds or flowery sandals make great substitutes. If you wish to have us get the shoes for you\, please include an additional $70 dollars per walker and place the shoe size of your walker in the check memo line. Shoe orders need to be made by April 1\, 2019.</div>\n\n<div style="margin: 0px\; padding: 0px\; color: rgb(48\, 48\, 48)\; font-family: Verdana\, Geneva\, sans-serif\; font-size: 14px\; background-color: rgb(255\, 255\, 255)\;">&nbsp\;</div>\n\n<div style="margin: 0px\; padding: 0px\; color: rgb(48\, 48\, 48)\; font-family: Verdana\, Geneva\, sans-serif\; font-size: 14px\; background-color: rgb(255\, 255\, 255)\;">Finally\, pick out your outfit for the walk and start strutting. Costumes and accessories are welcome and encouraged.&nbsp\;<br />\n<br />\nTo Register click the link below.</div>\n\n<div style="margin: 0px\; padding: 0px\; color: rgb(48\, 48\, 48)\; font-family: Verdana\, Geneva\, sans-serif\; font-size: 14px\; background-color: rgb(255\, 255\, 255)\;"><a href="https://chambermaster.blob.core.windows.net/userfiles/UserFiles/chambers/1366/File/RegistrationForm.pdf" style="color: rgb(7\, 130\, 193)\; font-family: Verdana\, Geneva\, sans-serif\; font-size: 14px\;">https://chambermaster.blob.core.windows.net/userfiles/UserFiles/chambers/1366/File/RegistrationForm.pdf</a></div>\n
LOCATION:Martin Sutton Park 302 West Fourth Street\; Ridgely\, Maryland 21660
UID:e.1366.2251
SEQUENCE:3
DTSTAMP:20260424T101102Z
URL:https://www.carolinechamber.org/events/details/walk-a-mile-in-her-shoes-2251
END:VEVENT

END:VCALENDAR
