BEGIN:VCALENDAR
VERSION:2.0
PRODID:-//ChamberMaster//Event Calendar 2.0//EN
METHOD:PUBLISH
X-PUBLISHED-TTL:P3D
REFRESH-INTERVAL:P3D
CALSCALE:GREGORIAN
BEGIN:VEVENT
DTSTART:20191020T140000Z
DTEND:20191020T150000Z
X-MICROSOFT-CDO-ALLDAYEVENT:FALSE
SUMMARY:Walking Tour of Frederick Douglass in Old Denton
DESCRIPTION:Following the successful presentation of "Lost History: Frederick Douglass in Caroline County" this past February at the Denton Library local historian John Muller returns to town to offer a unique walking tour for students and seniors alike interested in learning more.\n\nJoin local history enthusiasts and community leaders for a debut walking tour detailing a previously unknown high-profile visit Dr. Douglass made to Denton\, Maryland in the fall of 1883. Arriving by train and escorted through town by a brass band from nearby Centreville\, Douglass spoke at the old county courthouse in a political rally before departing by boat.\n\nLearn more about the many connections Douglass had to Denton and Caroline County from his childhood and through his wife and close friends from Caroline County.
X-ALT-DESC;FMTTYPE=text/html:<p style="margin: 0px\; padding: 0px\; color: rgb(111\, 114\, 135)\; font-family: &quot\;Neue Plak&quot\;\, -apple-system\, BlinkMacSystemFont\, Roboto\, &quot\;Helvetica Neue&quot\;\, Helvetica\, Tahoma\, Arial\, sans-serif\; font-size: 14.9333px\; letter-spacing: 0.5px\; background-color: rgb(255\, 255\, 255)\;">Following the successful presentation of &quot\;Lost History: Frederick Douglass in Caroline County&quot\; this past February at the Denton Library local historian John Muller returns to town to offer a unique walking tour for students and seniors alike interested in learning more.</p>\n\n<p style="margin: 0px\; padding: 10px 0px 0px\; color: rgb(111\, 114\, 135)\; font-family: &quot\;Neue Plak&quot\;\, -apple-system\, BlinkMacSystemFont\, Roboto\, &quot\;Helvetica Neue&quot\;\, Helvetica\, Tahoma\, Arial\, sans-serif\; font-size: 14.9333px\; letter-spacing: 0.5px\; background-color: rgb(255\, 255\, 255)\;">Join local history enthusiasts and community leaders for a debut walking tour detailing a previously unknown high-profile visit Dr. Douglass made to Denton\, Maryland in the fall of 1883. Arriving by train and escorted through town by a brass band from nearby Centreville\, Douglass spoke at the old county courthouse in a political rally before departing by boat.</p>\n\n<p style="margin: 0px\; padding: 10px 0px 0px\; color: rgb(111\, 114\, 135)\; font-family: &quot\;Neue Plak&quot\;\, -apple-system\, BlinkMacSystemFont\, Roboto\, &quot\;Helvetica Neue&quot\;\, Helvetica\, Tahoma\, Arial\, sans-serif\; font-size: 14.9333px\; letter-spacing: 0.5px\; background-color: rgb(255\, 255\, 255)\;">Learn more about the many connections Douglass had to Denton and Caroline County from his childhood and through his wife and close friends from Caroline County.</p>\n
LOCATION:Wharves of Choptank
UID:e.1366.2537
SEQUENCE:3
DTSTAMP:20260424T023513Z
URL:https://www.carolinechamber.org/events/details/walking-tour-of-frederick-douglass-in-old-denton-2537
END:VEVENT

END:VCALENDAR
