BEGIN:VCALENDAR
VERSION:2.0
PRODID:-//ChamberMaster//Event Calendar 2.0//EN
METHOD:PUBLISH
X-PUBLISHED-TTL:P3D
REFRESH-INTERVAL:P3D
CALSCALE:GREGORIAN
BEGIN:VEVENT
DTSTART:20221202T220000Z
DTEND:20221203T020000Z
X-MICROSOFT-CDO-ALLDAYEVENT:FALSE
SUMMARY:Whoville Village Holiday Park
DESCRIPTION:Come and enjoy the best Christmas event in Caroline County. Whoville Village Holiday Park. Free pictures with Santa\, Grinch\, Cindy Lou and the Whos. music\, vendors\, food truck\, and more! free hot chocolate and cookie station.
X-ALT-DESC;FMTTYPE=text/html:Come and enjoy the best Christmas event in Caroline County. Whoville Village Holiday Park. Free pictures with Santa\, Grinch\, Cindy Lou and the Whos. music\, vendors\, food truck\, and more! free hot chocolate and cookie station.
LOCATION:13781 Greensboro Rd. Greensboro MD 21639
UID:e.1366.3985
SEQUENCE:3
DTSTAMP:20260419T173944Z
URL:https://www.carolinechamber.org/events/details/whoville-village-holiday-park-12-02-2022-3985
END:VEVENT

END:VCALENDAR
